BEGIN:VCALENDAR
VERSION:2.0
PRODID:regionsverband-gruene-hannover.de
METHOD:PUBLISH
BEGIN:VTIMEZONE
TZID:Europe/Berlin
X-LIC-LOCATION:Europe/Berlin
BEGIN:DAYLIGHT
TZOFFSETFROM:+0100
TZOFFSETTO:+0200
TZNAME:CEST
DTSTART:19700329T020000
RRULE:FREQ=YEARLY;INTERVAL=1;BYDAY=-1SU;BYMONTH=3
END:DAYLIGHT
BEGIN:STANDARD
TZOFFSETFROM:+0200
TZOFFSETTO:+0100
TZNAME:CET
DTSTART:19701025T030000
RRULE:FREQ=YEARLY;INTERVAL=1;BYDAY=-1SU;BYMONTH=10
END:STANDARD
END:VTIMEZONE
BEGIN:VEVENT
UID:bf355f3965fcef81175f644272a22a8e@regionsverband-gruene-hannover.de
URL;VALUE=URI:https://regionsverband-gruene-hannover.de/termine/sicher-zu
 r-schule-wege-sichern-kinder-schuetzen/
LOCATION:IGS List, Röntgenstr. 6, 30163 Hannover
SUMMARY:SICHER ZUR SCHULE! Wege sichern. Kinder schützen.
DESCRIPTION;ALTREP="data:text/html,%3Cp%3EUnsere%20Gr%C3%BCne%20Verkehrsp
 olitische%20Sprecherin%20Swantje%20Michaelsen%2C%20MdB%20sowie%20Oberb%C3
 %BCrgermeister%20Belit%20Onay%20und%20Vorstandsmitglied%20des%20Verkehrsc
 lubs%20Deutschland%20%28VCD%29%20Philipp%20Behnke%20kommen%20mit%20Sch%C3
 %BCler%2Ainnen%20sowie%20B%C3%BCrger%2Ainnen%20zum%20Thema%20Schulwegsich
 erheit%20ins%20Gespr%C3%A4ch.%3Cbr%20%2F%3E%0AAnmeldungen%20sind%20nicht%
 20erforderlich.%20Kommt%20vorbei%2C%20redet%20mit%21%3C%2Fp%3E":Unsere Gr
 üne Verkehrspolitische Sprecherin Swantje Michaelsen\, MdB sowie Oberbü
 rgermeister Belit Onay und Vorstandsmitglied des Verkehrsclubs Deutschlan
 d (VCD) Philipp Behnke kommen mit Schüler*innen sowie Bürger*innen zum 
 Thema Schulwegsicherheit ins Gespräch.\n\nAnmeldungen sind nicht erforde
 rlich. Kommt vorbei\, redet mit!
CLASS:PUBLIC
DTSTART;TZID=Europe/Berlin:20260427T190000
DTEND;TZID=Europe/Berlin:20260427T210000
DTSTAMP:20260423T105145
END:VEVENT
END:VCALENDAR