BEGIN:VCALENDAR
VERSION:2.0
PRODID:regionsverband-gruene-hannover.de
METHOD:PUBLISH
BEGIN:VTIMEZONE
TZID:Europe/Berlin
X-LIC-LOCATION:Europe/Berlin
BEGIN:DAYLIGHT
TZOFFSETFROM:+0100
TZOFFSETTO:+0200
TZNAME:CEST
DTSTART:19700329T020000
RRULE:FREQ=YEARLY;INTERVAL=1;BYDAY=-1SU;BYMONTH=3
END:DAYLIGHT
BEGIN:STANDARD
TZOFFSETFROM:+0200
TZOFFSETTO:+0100
TZNAME:CET
DTSTART:19701025T030000
RRULE:FREQ=YEARLY;INTERVAL=1;BYDAY=-1SU;BYMONTH=10
END:STANDARD
END:VTIMEZONE
BEGIN:VEVENT
UID:0aae1e86f4d5acc0c4d180daac046763@regionsverband-gruene-hannover.de
URL;VALUE=URI:https://regionsverband-gruene-hannover.de/termine/unsere-ab
 geordneten-laden-ein-faeden-in-der-hand/
LOCATION:Grünes Kiezbüro, Rehbockstraße 1, Hannover
SUMMARY:Unsere Abgeordneten laden ein: Fäden in der Hand
DESCRIPTION;ALTREP="data:text/html,%3Cp%3EMehr%20Infos%20findest%20du%20u
 nter%20https%3A%2F%2Fregionsverband-gruene-hannover.de%2Farbeitsgemeinsch
 aften-ags%2F%3C%2Fp%3E":Mehr Infos findest du unter https://regionsverban
 d-gruene-hannover.de/arbeitsgemeinschaften-ags/
CLASS:PUBLIC
DTSTART;TZID=Europe/Berlin:20260826T180000
DTEND;TZID=Europe/Berlin:20260826T200000
DTSTAMP:20260423T095609
END:VEVENT
END:VCALENDAR